BEGIN:VCALENDAR
VERSION:2.0
PRODID:-//ChamberMaster//Event Calendar 2.0//EN
METHOD:PUBLISH
X-PUBLISHED-TTL:P3D
REFRESH-INTERVAL:P3D
CALSCALE:GREGORIAN
BEGIN:VEVENT
DTSTART:20230616T223000Z
DTEND:20230617T003000Z
X-MICROSOFT-CDO-ALLDAYEVENT:FALSE
SUMMARY:Live Music: The Red Forman Experience
DESCRIPTION:The Red Forman Experience will perform.
X-ALT-DESC;FMTTYPE=text/html:The Red Forman Experience will perform.&nbsp\;
LOCATION:The Wine Sellers - 121 S Randolph St\, Macomb\, IL 61455
UID:e.2125.13575
SEQUENCE:3
DTSTAMP:20260423T192413Z
URL:https://business.macombareachamber.com/events/details/live-music-the-red-forman-experience-13575
END:VEVENT

END:VCALENDAR
