BEGIN:VCALENDAR
VERSION:2.0
PRODID:-//ChamberMaster//Event Calendar 2.0//EN
METHOD:PUBLISH
X-PUBLISHED-TTL:P3D
REFRESH-INTERVAL:P3D
CALSCALE:GREGORIAN
BEGIN:VEVENT
DTSTART:20230514T010000Z
DTEND:20230514T030000Z
X-MICROSOFT-CDO-ALLDAYEVENT:FALSE
SUMMARY:Live Music: The L.A.B.
DESCRIPTION:The Flying Bowsers will be playing Alternative Rock out in the beer garden
X-ALT-DESC;FMTTYPE=text/html:<h2 class="gmql0nx0 l94mrbxd p1ri9a11 lzcic4wl d2edcug0 hpfvmrgz" dir="auto" style="font-weight: inherit\; color: inherit\; font-family: inherit\; font-size: inherit\; margin: 0px\; padding: 0px\; outline: none\; max-width: 100%\; min-width: 0px\;">The Flying Bowsers will be playing Alternative Rock out in the beer garden</h2>\n
LOCATION:Forgottonia Brewing - 324 N Lafayette Street\, Macomb
UID:e.2125.13405
SEQUENCE:3
DTSTAMP:20260423T233024Z
URL:https://business.macombareachamber.com/events/details/live-music-the-l-a-b-13405
END:VEVENT

END:VCALENDAR
