BEGIN:VCALENDAR
VERSION:2.0
PRODID:-//ChamberMaster//Event Calendar 2.0//EN
METHOD:PUBLISH
X-PUBLISHED-TTL:P3D
REFRESH-INTERVAL:P3D
CALSCALE:GREGORIAN
BEGIN:VEVENT
DTSTART:20230506T010000Z
DTEND:20230506T030000Z
X-MICROSOFT-CDO-ALLDAYEVENT:FALSE
SUMMARY:Live Music: The L.A.B.
DESCRIPTION:The L.A.B. will be playing a range of Latin Jazz standards from Boleros (Romantic music that originated in Cuba) to more traditional pieces like Corridos (Narrative ballads that tell stories of Mexican history\, culture\, and everyday life).\n\nFeaturing Osiris Martiznez
X-ALT-DESC;FMTTYPE=text/html:<h2 class="gmql0nx0 l94mrbxd p1ri9a11 lzcic4wl d2edcug0 hpfvmrgz" dir="auto" style="font-weight: inherit\; color: inherit\; font-family: inherit\; font-size: inherit\; margin: 0px\; padding: 0px\; outline: none\; max-width: 100%\; min-width: 0px\;">The L.A.B. will be playing a range of Latin Jazz standards from Boleros (Romantic music that originated in Cuba) to more traditional pieces like Corridos (Narrative ballads that tell stories of Mexican history\, culture\, and everyday life).<br />\nFeaturing Osiris Martiznez</h2>\n
LOCATION:Forgottonia Brewing - 324 N Lafayette Street\, Macomb
UID:e.2125.13404
SEQUENCE:3
DTSTAMP:20260423T232933Z
URL:https://business.macombareachamber.com/events/details/live-music-the-l-a-b-13404
END:VEVENT

END:VCALENDAR
