BEGIN:VCALENDAR
VERSION:2.0
PRODID:-//ChamberMaster//Event Calendar 2.0//EN
METHOD:PUBLISH
X-PUBLISHED-TTL:P3D
REFRESH-INTERVAL:P3D
CALSCALE:GREGORIAN
BEGIN:VEVENT
DTSTART:20230416T000000Z
DTEND:20230416T030000Z
X-MICROSOFT-CDO-ALLDAYEVENT:FALSE
SUMMARY:Live Music: The Ex-Bombers
DESCRIPTION:The Ex-Bombers are a psychedelic blues duo consisting of an 8-string bass & drums performing their take on an eclectic range of cover songs and original music.
X-ALT-DESC;FMTTYPE=text/html:<h2 class="gmql0nx0 l94mrbxd p1ri9a11 lzcic4wl d2edcug0 hpfvmrgz" dir="auto" style="color: inherit\; font-size: inherit\; font-weight: inherit\; margin: 0px\; padding: 0px\; outline: none\; max-width: 100%\; min-width: 0px\; font-family: inherit\;">The Ex-Bombers are a psychedelic blues duo consisting of an 8-string bass &amp\; drums performing their take on an eclectic range of cover songs and original music.</h2>\n
LOCATION:Forgottonia Brewing - 324 N Lafayette Street\, Macomb
UID:e.2125.13085
SEQUENCE:3
DTSTAMP:20260423T232933Z
URL:https://business.macombareachamber.com/events/details/live-music-the-ex-bombers-13085
END:VEVENT

END:VCALENDAR
