BEGIN:VCALENDAR
VERSION:2.0
PRODID:-//ChamberMaster//Event Calendar 2.0//EN
METHOD:PUBLISH
X-PUBLISHED-TTL:P3D
REFRESH-INTERVAL:P3D
CALSCALE:GREGORIAN
BEGIN:VEVENT
DTSTART:20230430T010000Z
DTEND:20230430T030000Z
X-MICROSOFT-CDO-ALLDAYEVENT:FALSE
SUMMARY:Live Music: Swamp Rats
DESCRIPTION:Swamp Rats will be playing out in our beer garden starting at 8 PM.\n\nSwamp Rats take intricate clawhammer banjo and blends it with a driving punk rhythm fronted by gritty & soothing harmonizing vocals.
X-ALT-DESC;FMTTYPE=text/html:<h2 class="gmql0nx0 l94mrbxd p1ri9a11 lzcic4wl d2edcug0 hpfvmrgz" dir="auto" style="color: inherit\; font-size: inherit\; font-weight: inherit\; margin: 0px\; padding: 0px\; outline: none\; max-width: 100%\; min-width: 0px\; font-family: inherit\;">Swamp Rats will be playing out in our beer garden starting at 8 PM.<br />\nSwamp Rats take intricate clawhammer banjo and blends it with a driving punk rhythm fronted by gritty &amp\; soothing harmonizing vocals.</h2>\n
LOCATION:Forgottonia Brewing - 324 N Lafayette Street\, Macomb
UID:e.2125.13089
SEQUENCE:3
DTSTAMP:20260423T221736Z
URL:https://business.macombareachamber.com/events/details/live-music-swamp-rats-13089
END:VEVENT

END:VCALENDAR
