BEGIN:VCALENDAR
VERSION:2.0
PRODID:-//ChamberMaster//Event Calendar 2.0//EN
METHOD:PUBLISH
X-PUBLISHED-TTL:P3D
REFRESH-INTERVAL:P3D
CALSCALE:GREGORIAN
BEGIN:VEVENT
DTSTART:20230429T000000Z
DTEND:20230429T040000Z
X-MICROSOFT-CDO-ALLDAYEVENT:FALSE
SUMMARY:Live Music: Sista and the Mistas
DESCRIPTION:REMINDER!!!! MARK YOUR CALENDARS AND SPREAD THE WORD!!! This Friday\, April 28 from 7-11p!!! You don't want to miss this show or Sandra's Authentic Mexican Food!!! Be there!!!!
X-ALT-DESC;FMTTYPE=text/html:REMINDER!!!! MARK YOUR CALENDARS AND SPREAD THE WORD!!! This Friday\, April 28 from 7-11p!!! You don&rsquo\;t want to miss this show or Sandra&#39\;s Authentic Mexican Food!!! Be there!!!!<br />\n&nbsp\;
LOCATION:Macomb Elks Lodge 401 Deer Road Macomb\, IL
UID:e.2125.13383
SEQUENCE:3
DTSTAMP:20260423T233408Z
URL:https://business.macombareachamber.com/events/details/live-music-sista-and-the-mistas-13383
END:VEVENT

END:VCALENDAR
