BEGIN:VCALENDAR
VERSION:2.0
PRODID:-//ChamberMaster//Event Calendar 2.0//EN
METHOD:PUBLISH
X-PUBLISHED-TTL:P3D
REFRESH-INTERVAL:P3D
CALSCALE:GREGORIAN
BEGIN:VEVENT
DTSTART:20230408T223000Z
DTEND:20230409T003000Z
X-MICROSOFT-CDO-ALLDAYEVENT:FALSE
SUMMARY:Live Music: Joshua Allen
DESCRIPTION:Live Music\n\nJoshua Allen with special guest Nicole Montgomery
X-ALT-DESC;FMTTYPE=text/html:Live Music<br />\nJoshua Allen with special guest Nicole Montgomery
LOCATION:The Wine Sellers - 121 S. Randolph Street\, Macomb
UID:e.2125.13067
SEQUENCE:3
DTSTAMP:20260423T222418Z
URL:https://business.macombareachamber.com/events/details/live-music-joshua-allen-13067
END:VEVENT

END:VCALENDAR
