BEGIN:VCALENDAR
VERSION:2.0
PRODID:-//ChamberMaster//Event Calendar 2.0//EN
METHOD:PUBLISH
X-PUBLISHED-TTL:P3D
REFRESH-INTERVAL:P3D
CALSCALE:GREGORIAN
BEGIN:VEVENT
DTSTART:20230610T223000Z
DTEND:20230611T003000Z
X-MICROSOFT-CDO-ALLDAYEVENT:FALSE
SUMMARY:Live Music: Joshua Allen
DESCRIPTION:Live Music with Joshua Allen
X-ALT-DESC;FMTTYPE=text/html:Live Music with Joshua Allen
LOCATION:The Wine Sellers
UID:e.2125.13574
SEQUENCE:3
DTSTAMP:20260423T192851Z
URL:https://business.macombareachamber.com/events/details/live-music-joshua-allen-06-10-2023-13574
END:VEVENT

END:VCALENDAR
