BEGIN:VCALENDAR
VERSION:2.0
PRODID:-//ChamberMaster//Event Calendar 2.0//EN
METHOD:PUBLISH
X-PUBLISHED-TTL:P3D
REFRESH-INTERVAL:P3D
CALSCALE:GREGORIAN
BEGIN:VEVENT
DTSTART:20220717T200000Z
DTEND:20220717T220000Z
X-MICROSOFT-CDO-ALLDAYEVENT:FALSE
SUMMARY:Live Music: John Heasly
DESCRIPTION:Swamp Rats is a folk\, blues\, bluegrass duo from Central Florida! They will stopping by Forgottonia for the first time for a Sunday afternoon full of great original music!
X-ALT-DESC;FMTTYPE=text/html:<div class="bi6gxh9e aov4n071" style="margin-top: 8px\; margin-bottom: 8px\; font-family: &quot\;Segoe UI Historic&quot\;\, &quot\;Segoe UI&quot\;\, Helvetica\, Arial\, sans-serif\; color: rgb(28\, 30\, 33)\; font-size: 12px\; background-color: rgb(255\, 255\, 255)\;">\n<h2 class="gmql0nx0 l94mrbxd p1ri9a11 lzcic4wl d2edcug0 hpfvmrgz" dir="auto" style="color: inherit\; font-size: inherit\; font-weight: inherit\; margin: 0px\; padding: 0px\; outline: none\; max-width: 100%\; min-width: 0px\; font-family: inherit\;"><span style="color: rgb(5\, 5\, 5)\; font-family: &quot\;Segoe UI Historic&quot\;\, &quot\;Segoe UI&quot\;\, Helvetica\, Arial\, sans-serif\; font-size: 15px\;">Swamp Rats is a folk\, blues\, bluegrass duo from Central Florida! They will stopping by Forgottonia for the first time for a Sunday afternoon full of great original music!</span></h2>\n</div>\n
LOCATION:Forgottonia Brewing - 324 N Lafayette Street\, Macomb
UID:e.2125.9872
SEQUENCE:3
DTSTAMP:20260422T120155Z
URL:https://business.macombareachamber.com/events/details/live-music-john-heasly-9872
END:VEVENT

END:VCALENDAR
