BEGIN:VCALENDAR
VERSION:2.0
PRODID:-//ChamberMaster//Event Calendar 2.0//EN
METHOD:PUBLISH
X-PUBLISHED-TTL:P3D
REFRESH-INTERVAL:P3D
CALSCALE:GREGORIAN
BEGIN:VEVENT
DTSTART:20220702T000000Z
DTEND:20220702T020000Z
X-MICROSOFT-CDO-ALLDAYEVENT:FALSE
SUMMARY:Live Music: John Heasly
DESCRIPTION:John Heasly will be coming back to Forgottonia and will be playing folk and blues music from 7-9pm!
X-ALT-DESC;FMTTYPE=text/html:<div class="bi6gxh9e aov4n071" style="margin-top: 8px\; margin-bottom: 8px\; font-family: &quot\;Segoe UI Historic&quot\;\, &quot\;Segoe UI&quot\;\, Helvetica\, Arial\, sans-serif\; color: rgb(28\, 30\, 33)\; font-size: 12px\; background-color: rgb(255\, 255\, 255)\;">\n<h2 class="gmql0nx0 l94mrbxd p1ri9a11 lzcic4wl d2edcug0 hpfvmrgz" dir="auto" style="color: inherit\; font-size: inherit\; font-weight: inherit\; margin: 0px\; padding: 0px\; outline: none\; max-width: 100%\; min-width: 0px\; font-family: inherit\;">John Heasly will be coming back to Forgottonia and will be playing folk and blues music from 7-9pm!</h2>\n</div>\n
LOCATION:Forgottonia Brewing - 324 N Lafayette Street\, Macomb
UID:e.2125.9870
SEQUENCE:3
DTSTAMP:20260422T120155Z
URL:https://business.macombareachamber.com/events/details/live-music-john-heasly-9870
END:VEVENT

END:VCALENDAR
