BEGIN:VCALENDAR
VERSION:2.0
PRODID:-//ChamberMaster//Event Calendar 2.0//EN
METHOD:PUBLISH
X-PUBLISHED-TTL:P3D
REFRESH-INTERVAL:P3D
CALSCALE:GREGORIAN
BEGIN:VEVENT
DTSTART:20250412T223000Z
DTEND:20250413T003000Z
X-MICROSOFT-CDO-ALLDAYEVENT:FALSE
SUMMARY:Live Music Joe Hincks
DESCRIPTION:
X-ALT-DESC;FMTTYPE=text/html:
LOCATION:The Wine Sellers - 121 S Randolph St\, Macomb\, IL 61455
UID:e.2125.18814
SEQUENCE:3
DTSTAMP:20260420T113737Z
URL:https://business.macombareachamber.com/events/details/live-music-joe-hincks-18814
END:VEVENT

END:VCALENDAR
