BEGIN:VCALENDAR
VERSION:2.0
PRODID:-//ChamberMaster//Event Calendar 2.0//EN
METHOD:PUBLISH
X-PUBLISHED-TTL:P3D
REFRESH-INTERVAL:P3D
CALSCALE:GREGORIAN
BEGIN:VEVENT
DTSTART:20230414T223000Z
DTEND:20230415T003000Z
X-MICROSOFT-CDO-ALLDAYEVENT:FALSE
SUMMARY:Live Music Happy Hour: The Ex-Bombers
DESCRIPTION:The Ex-Bombers are a sinister psychedelic blues duo who play suspiciously resonant songs harnessing the thunder of electric 8-string bass and drums\, a pair of wrecking ball voices\, and a delightful kaleidoscope perspective of a world on fire. Since 2010 they have been amassing a cult following through their scintillating live shows and five electrifying vinyl releases on Cavetone Records
X-ALT-DESC;FMTTYPE=text/html:The Ex-Bombers are a sinister psychedelic blues duo who play suspiciously resonant songs harnessing the thunder of electric 8-string bass and drums\, a pair of wrecking ball voices\, and a delightful kaleidoscope perspective of a world on fire. Since 2010 they have been amassing a cult following through their scintillating live shows and five electrifying vinyl releases on Cavetone Records&nbsp\;
LOCATION:The Wine Sellers - 121 S Randolph St\, Macomb\, IL 61455
UID:e.2125.13090
SEQUENCE:3
DTSTAMP:20260423T222346Z
URL:https://business.macombareachamber.com/events/details/live-music-happy-hour-the-ex-bombers-13090
END:VEVENT

END:VCALENDAR
