BEGIN:VCALENDAR
VERSION:2.0
PRODID:-//ChamberMaster//Event Calendar 2.0//EN
METHOD:PUBLISH
X-PUBLISHED-TTL:P3D
REFRESH-INTERVAL:P3D
CALSCALE:GREGORIAN
BEGIN:VEVENT
DTSTART:20230826T223000Z
DTEND:20230827T003000Z
X-MICROSOFT-CDO-ALLDAYEVENT:FALSE
SUMMARY:Live Music: George Turner
DESCRIPTION:Live Music: George Turner
X-ALT-DESC;FMTTYPE=text/html:Live Music: George Turner
LOCATION:The Wine Sellers - 121 S. Randolph Street\, Macomb
UID:e.2125.13701
SEQUENCE:3
DTSTAMP:20260423T163147Z
URL:https://business.macombareachamber.com/events/details/live-music-george-turner-13701
END:VEVENT

END:VCALENDAR
