BEGIN:VCALENDAR
VERSION:2.0
PRODID:-//ChamberMaster//Event Calendar 2.0//EN
METHOD:PUBLISH
X-PUBLISHED-TTL:P3D
REFRESH-INTERVAL:P3D
CALSCALE:GREGORIAN
BEGIN:VEVENT
DTSTART:20230422T010000Z
DTEND:20230422T030000Z
X-MICROSOFT-CDO-ALLDAYEVENT:FALSE
SUMMARY:Live Music: Flyoverf
DESCRIPTION:Local garage rock band Flyover will be playing in the beer garden starting at 8 pm.
X-ALT-DESC;FMTTYPE=text/html:<font color="#050505" face="Segoe UI Historic\, Segoe UI\, Helvetica\, Arial\, sans-serif"><span style="font-size: 15px\; background-color: rgb(255\, 255\, 255)\;">Local garage rock band Flyover will be playing in the beer garden starting at 8 pm.</span></font>
LOCATION:Forgottonia Brewing - 324 N Lafayette Street\, Macomb
UID:e.2125.13087
SEQUENCE:3
DTSTAMP:20260423T232625Z
URL:https://business.macombareachamber.com/events/details/live-music-flyoverf-13087
END:VEVENT

END:VCALENDAR
