BEGIN:VCALENDAR
VERSION:2.0
PRODID:-//ChamberMaster//Event Calendar 2.0//EN
METHOD:PUBLISH
X-PUBLISHED-TTL:P3D
REFRESH-INTERVAL:P3D
CALSCALE:GREGORIAN
BEGIN:VEVENT
DTSTART:20240420T223000Z
DTEND:20240421T003000Z
X-MICROSOFT-CDO-ALLDAYEVENT:FALSE
SUMMARY:Live Music: Dan Eilers
DESCRIPTION:Dan Eilers will perform
X-ALT-DESC;FMTTYPE=text/html:Dan Eilers will perform
LOCATION:The Wine Sellers - 121 S Randolph St\, Macomb\, IL 61455
UID:e.2125.14797
SEQUENCE:3
DTSTAMP:20260423T101724Z
URL:https://business.macombareachamber.com/events/details/live-music-dan-eilers-14797
END:VEVENT

END:VCALENDAR
