BEGIN:VCALENDAR
VERSION:2.0
PRODID:-//ChamberMaster//Event Calendar 2.0//EN
METHOD:PUBLISH
X-PUBLISHED-TTL:P3D
REFRESH-INTERVAL:P3D
CALSCALE:GREGORIAN
BEGIN:VEVENT
DTSTART:20230505T223000Z
DTEND:20230506T003000Z
X-MICROSOFT-CDO-ALLDAYEVENT:FALSE
SUMMARY:Live Music: Alice Muller Trio
DESCRIPTION:Live Music: Alice Muller Trio
X-ALT-DESC;FMTTYPE=text/html:Live Music: Alice Muller Trio&nbsp\;
LOCATION:The Wine Sellers - 121 S. Randolph Street\, Macomb
UID:e.2125.13394
SEQUENCE:3
DTSTAMP:20260423T233210Z
URL:https://business.macombareachamber.com/events/details/live-music-alice-muller-trio-13394
END:VEVENT

END:VCALENDAR
