BEGIN:VCALENDAR
VERSION:2.0
PRODID:-//ChamberMaster//Event Calendar 2.0//EN
METHOD:PUBLISH
X-PUBLISHED-TTL:P3D
REFRESH-INTERVAL:P3D
CALSCALE:GREGORIAN
BEGIN:VEVENT
DTSTART:20230527T010000Z
DTEND:20230527T030000Z
X-MICROSOFT-CDO-ALLDAYEVENT:FALSE
SUMMARY:Live Music: Aaron Lee
DESCRIPTION:Aaron Lee will perform covers and originals starting at 8 pm
X-ALT-DESC;FMTTYPE=text/html:<div class="bi6gxh9e aov4n071" style="margin-top: 8px\; margin-bottom: 8px\; font-family: &quot\;Segoe UI Historic&quot\;\, &quot\;Segoe UI&quot\;\, Helvetica\, Arial\, sans-serif\; background-color: rgb(255\, 255\, 255)\;">\n<h2 class="gmql0nx0 l94mrbxd p1ri9a11 lzcic4wl d2edcug0 hpfvmrgz" dir="auto" style="font-weight: inherit\; margin: 0px\; padding: 0px\; outline: none\; max-width: 100%\; min-width: 0px\; font-family: inherit\;"><font color="#050505"><span style="font-size: 15px\;">Aaron Lee will perform covers and originals starting at 8 pm</span></font></h2>\n</div>\n
LOCATION:Forgottonia Brewing - 324 N Lafayette Street\, Macomb
UID:e.2125.13403
SEQUENCE:3
DTSTAMP:20260423T232650Z
URL:https://business.macombareachamber.com/events/details/live-music-aaron-lee-13403
END:VEVENT

END:VCALENDAR
