BEGIN:VCALENDAR
VERSION:2.0
PRODID:-//ChamberMaster//Event Calendar 2.0//EN
METHOD:PUBLISH
X-PUBLISHED-TTL:P3D
REFRESH-INTERVAL:P3D
CALSCALE:GREGORIAN
BEGIN:VEVENT
DTSTART:20230727T170000Z
DTEND:20230727T180000Z
X-MICROSOFT-CDO-ALLDAYEVENT:FALSE
SUMMARY:Little Lunchers
DESCRIPTION:Get your little ones ready because Little Lunchers is BACK for the Summer! We are so excited for another year of partnering with the Macomb Public Library. This FREE Program includes story reading and a complimentary lunch (while supplies last). \n\n\n\nMark your Calendars for June 15th\, July 13th and July 27th.
X-ALT-DESC;FMTTYPE=text/html:Get your little ones ready because Little Lunchers is BACK for the Summer! We are so excited for another year of partnering with the Macomb Public Library. This FREE Program includes story reading and a complimentary lunch (while supplies last).&nbsp\;<br />\n<br />\nMark your Calendars for June 15th\, July 13th and July 27th.
LOCATION:Chandler Park Gazebo
UID:e.2125.13560
SEQUENCE:3
DTSTAMP:20260423T174611Z
URL:https://business.macombareachamber.com/events/details/little-lunchers-13560
END:VEVENT

END:VCALENDAR
