BEGIN:VCALENDAR
VERSION:2.0
PRODID:-//ChamberMaster//Event Calendar 2.0//EN
METHOD:PUBLISH
X-PUBLISHED-TTL:P3D
REFRESH-INTERVAL:P3D
CALSCALE:GREGORIAN
BEGIN:VEVENT
DTSTART:20230816T213000Z
DTEND:20230816T230000Z
X-MICROSOFT-CDO-ALLDAYEVENT:FALSE
SUMMARY:Lincoln School Open House
DESCRIPTION:Lincoln School Open House. Come and visit your child's classroom\, meet your child's teacher\, bring in their supplies\, and tour the building.
X-ALT-DESC;FMTTYPE=text/html:Lincoln School Open House. Come and visit your child&#39\;s classroom\, meet your child&#39\;s teacher\, bring in their supplies\, and tour the building.&nbsp\;
LOCATION:Lincoln Elementary School 315 N. Bonham Street Macomb\, Illinois
UID:e.2125.13657
SEQUENCE:3
DTSTAMP:20260423T162925Z
URL:https://business.macombareachamber.com/events/details/lincoln-school-open-house-13657
END:VEVENT

END:VCALENDAR
