BEGIN:VCALENDAR
VERSION:2.0
PRODID:-//ChamberMaster//Event Calendar 2.0//EN
METHOD:PUBLISH
X-PUBLISHED-TTL:P3D
REFRESH-INTERVAL:P3D
CALSCALE:GREGORIAN
BEGIN:VEVENT
DTSTART:20230430T000000Z
DTEND:20230430T030000Z
X-MICROSOFT-CDO-ALLDAYEVENT:FALSE
SUMMARY:Let's Get It On: Jackie’s Boy Celebrating the music of Marvin Gaye and Motown
DESCRIPTION:"Let's Get It On " is a celebration concert featuring the music Of the late great Marvin Gaye and other Motown artists.  The act features the Grammy award winning song writer and artist "Jackie's Boy" The Show is amazing\, playing all the colossal Marvin Hits and other Motown Legends... No sitting down at this show\, everyone sings and dances at a "Let's Get it On" concert.  This Grammy-Award Winning songwriter has written\, sang\, and performed to countless audiences and has touched the hearts of many that have paved the way for his musical success.  Jackie's Boy has proved that his talents ensure hits and are highly sought after knowing that he brings success and a Savannah southern flair to every project he works on.\n\n\n\nThis show is still available for sponsorship.\n\nIf your business would like to sponsor on of our shows\, please email info@thelegacytheater.com.
X-ALT-DESC;FMTTYPE=text/html:&ldquo\;Let&rsquo\;s Get It On &rdquo\; is a celebration concert featuring the music Of the late great Marvin Gaye and other Motown artists.&nbsp\; The act features the Grammy award winning song writer and artist &ldquo\;Jackie&rsquo\;s Boy&rdquo\; The Show is amazing\, playing all the colossal Marvin Hits and other Motown Legends... No sitting down at this show\, everyone sings and dances at a &ldquo\;Let&rsquo\;s Get it On&rdquo\; concert.&nbsp\; This Grammy-Award Winning songwriter has written\, sang\, and performed to countless audiences and has touched the hearts of many that have paved the way for his musical success.&nbsp\; Jackie&#39\;s Boy has proved that his talents ensure hits and are highly sought after knowing that he brings success and a Savannah southern flair to every project he works on.<br />\n<br />\nThis show is still available for sponsorship.<br />\nIf your business would like to sponsor on of our shows\, please email info@thelegacytheater.com.
LOCATION:The Legacy Theater - 1160 Buchanan Street - Carthage\, IL
UID:e.2125.12746
SEQUENCE:3
DTSTAMP:20260423T222643Z
URL:https://business.macombareachamber.com/events/details/let-s-get-it-on-jackie-s-boy-celebrating-the-music-of-marvin-gaye-and-motown-12746
END:VEVENT

END:VCALENDAR
