BEGIN:VCALENDAR
VERSION:2.0
PRODID:-//ChamberMaster//Event Calendar 2.0//EN
METHOD:PUBLISH
X-PUBLISHED-TTL:P3D
REFRESH-INTERVAL:P3D
CALSCALE:GREGORIAN
BEGIN:VEVENT
DTSTART:20241020T190000Z
DTEND:20241020T200000Z
X-MICROSOFT-CDO-ALLDAYEVENT:FALSE
SUMMARY:Legends & Lattes Book Club
DESCRIPTION:A monthly book club focused on fantasy\, sci-fi\, and dystopia genres. Come discuss the books with fellow bookworms!\n\n\n\nReading List:\n\nOct 20: Fourth Wing by Rebecca Yarros\n\nNov 17: Legends & Lattes by Travis Baldtree\n\nDec 15: Virals by Kathy Reichs\n\nJan 19: The Long Earth by Terry Pratchett & Stephen Baxter
X-ALT-DESC;FMTTYPE=text/html:A monthly book club focused on fantasy\, sci-fi\, and dystopia genres. Come discuss the books with fellow bookworms!<br />\n<br />\nReading List:<br />\nOct 20: Fourth Wing by Rebecca Yarros<br />\nNov 17: Legends &amp\; Lattes by Travis Baldtree<br />\nDec 15: Virals by Kathy Reichs<br />\nJan 19: The Long Earth by Terry Pratchett &amp\; Stephen Baxter
LOCATION:Sullivan Taylor Coffee House 119 S. Randolph St. Macomb\, IL
UID:e.2125.16015
SEQUENCE:3
DTSTAMP:20260422T054748Z
URL:https://business.macombareachamber.com/events/details/legends-lattes-book-club-16015
END:VEVENT

END:VCALENDAR
