BEGIN:VCALENDAR
VERSION:2.0
PRODID:-//ChamberMaster//Event Calendar 2.0//EN
METHOD:PUBLISH
X-PUBLISHED-TTL:P3D
REFRESH-INTERVAL:P3D
CALSCALE:GREGORIAN
BEGIN:VEVENT
DTSTART;VALUE=DATE:20230709
DTEND;VALUE=DATE:20230716
TRANSP:TRANSPARENT
X-MICROSOFT-CDO-ALLDAYEVENT:TRUE
SUMMARY:Leatherneck Volleyball Camps
DESCRIPTION:Western Illinois University Volleyball Camps are led by the Western Illinois University Coaching staff and are held on the campus of Western Illinois University in Macomb\, Illinois.
X-ALT-DESC;FMTTYPE=text/html:Western Illinois University Volleyball Camps are led by the Western Illinois University Coaching staff and are held on the campus of Western Illinois University in Macomb\, Illinois.
LOCATION:
UID:e.2125.13016
SEQUENCE:3
DTSTAMP:20260423T175720Z
URL:https://business.macombareachamber.com/events/details/leatherneck-volleyball-camps-13016
END:VEVENT

END:VCALENDAR
