BEGIN:VCALENDAR
VERSION:2.0
PRODID:-//ChamberMaster//Event Calendar 2.0//EN
METHOD:PUBLISH
X-PUBLISHED-TTL:P3D
REFRESH-INTERVAL:P3D
CALSCALE:GREGORIAN
BEGIN:VEVENT
DTSTART;VALUE=DATE:20230422
DTEND;VALUE=DATE:20230423
TRANSP:TRANSPARENT
X-MICROSOFT-CDO-ALLDAYEVENT:TRUE
SUMMARY:Leatherneck Football Golf Outing
DESCRIPTION:Leatherneck Football Golf Outing. Join us for a day on the course to support Leatherneck Football with Leatherneck gear\, prizes\, and a meal to follow the round!\n\n\n\nSchedule of Events:\n\n\n\n7:45 AM - 8:45 AM - Registration/Check-in\n\n9:00 AM - Tee Off\n\n\n\nIncludes:\n\n\n\nHat\n\nSleeve of Golf Balls\n\nMeal & Drinks\n\nPrizes for Hole Contests & Winning Team
X-ALT-DESC;FMTTYPE=text/html:Leatherneck Football Golf Outing. Join us for a day on the course to support Leatherneck Football with Leatherneck gear\, prizes\, and a meal to follow the round!<br />\n<br />\nSchedule of Events:<br />\n<br />\n7:45 AM - 8:45 AM - Registration/Check-in<br />\n9:00 AM - Tee Off<br />\n<br />\nIncludes:<br />\n<br />\nHat<br />\nSleeve of Golf Balls<br />\nMeal &amp\; Drinks<br />\nPrizes for Hole Contests &amp\; Winning Team
LOCATION:Harry Mussatto Golf Course - 1215 Tower Road\, Macomb
UID:e.2125.12734
SEQUENCE:3
DTSTAMP:20260423T234159Z
URL:https://business.macombareachamber.com/events/details/leatherneck-football-golf-outing-12734
END:VEVENT

END:VCALENDAR
