BEGIN:VCALENDAR
VERSION:2.0
PRODID:-//ChamberMaster//Event Calendar 2.0//EN
METHOD:PUBLISH
X-PUBLISHED-TTL:P3D
REFRESH-INTERVAL:P3D
CALSCALE:GREGORIAN
BEGIN:VEVENT
DTSTART;VALUE=DATE:20230420
DTEND;VALUE=DATE:20230421
TRANSP:TRANSPARENT
X-MICROSOFT-CDO-ALLDAYEVENT:TRUE
SUMMARY:Lady Bomber Soccer Kicks for Cancer
DESCRIPTION:Lady Bomber Soccer Kicks for Cancer. Attend our Varsity & JV Soccer Game at 4:30 pm to support Colon Cancer Awareness. \n\n\n\nBetween the Varsity & JV Game\, the Lady Bomber Varsity Soccer Team will be shooting soccer balls at Mr. Horrell & Mr. Westen. \n\n\n\nDonations: All donations received will go toward the Colon Cancer Coalition Foundation
X-ALT-DESC;FMTTYPE=text/html:Lady Bomber Soccer Kicks for Cancer. Attend our Varsity &amp\; JV Soccer Game at 4:30 pm to support Colon Cancer Awareness.&nbsp\;<br />\n<br />\nBetween the Varsity &amp\; JV Game\, the Lady Bomber Varsity Soccer Team will be shooting soccer balls at Mr. Horrell &amp\; Mr. Westen.&nbsp\;<br />\n<br />\nDonations: All donations received will go toward the Colon Cancer Coalition Foundation
LOCATION:Macomb High School - 1525 South Johnson Street
UID:e.2125.13108
SEQUENCE:3
DTSTAMP:20260423T222517Z
URL:https://business.macombareachamber.com/events/details/lady-bomber-soccer-kicks-for-cancer-13108
END:VEVENT

END:VCALENDAR
