BEGIN:VCALENDAR
VERSION:2.0
PRODID:-//ChamberMaster//Event Calendar 2.0//EN
METHOD:PUBLISH
X-PUBLISHED-TTL:P3D
REFRESH-INTERVAL:P3D
CALSCALE:GREGORIAN
BEGIN:VEVENT
DTSTART;VALUE=DATE:20230601
DTEND;VALUE=DATE:20230603
TRANSP:TRANSPARENT
X-MICROSOFT-CDO-ALLDAYEVENT:TRUE
SUMMARY:Ladies Golf Classic Country Thunder
DESCRIPTION:Registration is OPEN for the Ladies Golf Classic: Country Thunder!! Get your best cowgirls together for a day of fun on the golf course! Cocktail Party and Auction kicks off from 6-8pm on Thursday\, June 1 at the Macomb Country Club. Then\, Friday\, June 1 Golf Tournament registration opens at 8am with a 9am shotgun start. NEW THIS YEAR: Choose from an 18 hole\, competitive tournament (with prizes)\, or 9 holes of golf and a pool party from 11am-1pm with cash bar. We will provide lunch and prizes at 1pm! Visit https://mcdonoughcountyunitedway.square.site/ to register your team today!! This tournament sold out in 2022- don't miss your chance at a great day\, with great friends\, for a great cause!!
X-ALT-DESC;FMTTYPE=text/html:Registration is OPEN for the Ladies Golf Classic: Country Thunder!! Get your best cowgirls together for a day of fun on the golf course! Cocktail Party and Auction kicks off from 6-8pm on Thursday\, June 1 at the Macomb Country Club. Then\, Friday\, June 1 Golf Tournament registration opens at 8am with a 9am shotgun start. NEW THIS YEAR: Choose from an 18 hole\, competitive tournament (with prizes)\, or 9 holes of golf and a pool party from 11am-1pm with cash bar. We will provide lunch and prizes at 1pm! Visit https://mcdonoughcountyunitedway.square.site/ to register your team today!! This tournament sold out in 2022- don&#39\;t miss your chance at a great day\, with great friends\, for a great cause!!
LOCATION:Macomb Country Club - 20 Hickory Grove
UID:e.2125.13071
SEQUENCE:3
DTSTAMP:20260423T192429Z
URL:https://business.macombareachamber.com/events/details/ladies-golf-classic-country-thunder-13071
END:VEVENT

END:VCALENDAR
