BEGIN:VCALENDAR
VERSION:2.0
PRODID:-//ChamberMaster//Event Calendar 2.0//EN
METHOD:PUBLISH
X-PUBLISHED-TTL:P3D
REFRESH-INTERVAL:P3D
CALSCALE:GREGORIAN
BEGIN:VEVENT
DTSTART:20241009T220000Z
DTEND:20241010T000000Z
X-MICROSOFT-CDO-ALLDAYEVENT:FALSE
SUMMARY:Kultural Fusion
DESCRIPTION:Join Casa Latina & Gwendolyn Brooks Cultural Center on Wednesday\, October 9th for KULTURAL FUSION  \n\nWe will have a variety of menu items like Pupusas & Mac and cheese\, Karaoke\, & more! All the meals served will be homemade & free to the public.
X-ALT-DESC;FMTTYPE=text/html:Join Casa Latina &amp\; Gwendolyn Brooks Cultural Center on Wednesday\, October 9th for KULTURAL FUSION &#127831\;<br />\nWe will have a variety of menu items like Pupusas &amp\; Mac and cheese\, Karaoke\, &amp\; more! All the meals served will be homemade &amp\; free to the public.
LOCATION:Western Illinois University Multicultural Center Multipurpose Room
UID:e.2125.16066
SEQUENCE:3
DTSTAMP:20260422T075427Z
URL:https://business.macombareachamber.com/events/details/kultural-fusion-16066
END:VEVENT

END:VCALENDAR
