BEGIN:VCALENDAR
VERSION:2.0
PRODID:-//ChamberMaster//Event Calendar 2.0//EN
METHOD:PUBLISH
X-PUBLISHED-TTL:P3D
REFRESH-INTERVAL:P3D
CALSCALE:GREGORIAN
BEGIN:VEVENT
DTSTART:20230529T220000Z
DTEND:20230530T010000Z
X-MICROSOFT-CDO-ALLDAYEVENT:FALSE
SUMMARY:Kids Night: Prehistoric Night
DESCRIPTION:Let us entertain the kids\, Monday night! Come visit us\, make a craft\, and enjoy family dinner! Kids eat free with the purchase of an adult entr e!
X-ALT-DESC;FMTTYPE=text/html:Let us entertain the kids\, Monday night! Come visit us\, make a craft\, and enjoy family dinner!&nbsp\;Kids eat free with the purchase of an adult entr&eacute\;e!
LOCATION:McAlister's Deli - 1635 East Jackson Street\, Macomb
UID:e.2125.13413
SEQUENCE:3
DTSTAMP:20260423T232916Z
URL:https://business.macombareachamber.com/events/details/kids-night-prehistoric-night-13413
END:VEVENT

END:VCALENDAR
