BEGIN:VCALENDAR
VERSION:2.0
PRODID:-//ChamberMaster//Event Calendar 2.0//EN
METHOD:PUBLISH
X-PUBLISHED-TTL:P3D
REFRESH-INTERVAL:P3D
CALSCALE:GREGORIAN
BEGIN:VEVENT
DTSTART:20230515T220000Z
DTEND:20230516T010000Z
X-MICROSOFT-CDO-ALLDAYEVENT:FALSE
SUMMARY:Kids Night: Carrot Patch
DESCRIPTION:Let us entertain the kids\, Monday night! Come visit us\, make a craft\, and enjoy family dinner! Kids eat free with the purchase of an adult entr e!
X-ALT-DESC;FMTTYPE=text/html:Let us entertain the kids\, Monday night! Come visit us\, make a craft\, and enjoy family dinner!&nbsp\;Kids eat free with the purchase of an adult entr&eacute\;e!
LOCATION:McAlister's Deli - 1635 East Jackson Street\, Macomb
UID:e.2125.13411
SEQUENCE:3
DTSTAMP:20260423T232604Z
URL:https://business.macombareachamber.com/events/details/kids-night-carrot-patch-13411
END:VEVENT

END:VCALENDAR
