BEGIN:VCALENDAR
VERSION:2.0
PRODID:-//ChamberMaster//Event Calendar 2.0//EN
METHOD:PUBLISH
X-PUBLISHED-TTL:P3D
REFRESH-INTERVAL:P3D
CALSCALE:GREGORIAN
BEGIN:VEVENT
DTSTART:20230715T153000Z
DTEND:20230715T190000Z
X-MICROSOFT-CDO-ALLDAYEVENT:FALSE
SUMMARY:Kids Engineer: Pool Rocketry!
DESCRIPTION:Explore engineering to create your own pool rocket! $1 with admission
X-ALT-DESC;FMTTYPE=text/html:Explore engineering to create your own pool rocket! $1 with admission
LOCATION:Discovery Depot Children's Museum 128 S Chambers St Galesburg IL\, 61401
UID:e.2125.13597
SEQUENCE:3
DTSTAMP:20260423T174718Z
URL:https://business.macombareachamber.com/events/details/kids-engineer-pool-rocketry-13597
END:VEVENT

END:VCALENDAR
