BEGIN:VCALENDAR
VERSION:2.0
PRODID:-//ChamberMaster//Event Calendar 2.0//EN
METHOD:PUBLISH
X-PUBLISHED-TTL:P3D
REFRESH-INTERVAL:P3D
CALSCALE:GREGORIAN
BEGIN:VEVENT
DTSTART:20231007T153000Z
DTEND:20231007T180000Z
X-MICROSOFT-CDO-ALLDAYEVENT:FALSE
SUMMARY:Kids Engineer-Glow in the Dark Monsters
DESCRIPTION:Join us for kids engineer to build your own glow in the dark monsters!
X-ALT-DESC;FMTTYPE=text/html:Join us for kids engineer to build your own glow in the dark monsters!
LOCATION:Discovery Depot Children's Museum 128 South Chambers Street Galesburg IL\, 61401
UID:e.2125.14020
SEQUENCE:3
DTSTAMP:20260422T122446Z
URL:https://business.macombareachamber.com/events/details/kids-engineer-glow-in-the-dark-monsters-14020
END:VEVENT

END:VCALENDAR
