BEGIN:VCALENDAR
VERSION:2.0
PRODID:-//ChamberMaster//Event Calendar 2.0//EN
METHOD:PUBLISH
X-PUBLISHED-TTL:P3D
REFRESH-INTERVAL:P3D
CALSCALE:GREGORIAN
BEGIN:VEVENT
DTSTART:20231009T213000Z
DTEND:20231009T224500Z
X-MICROSOFT-CDO-ALLDAYEVENT:FALSE
SUMMARY:Kids Canvas Club
DESCRIPTION:Join us for a kid-style painting party and create your own masterpiece!
X-ALT-DESC;FMTTYPE=text/html:Join us for a kid-style painting party and create your own masterpiece!
LOCATION:Discovery Depot Children's Museum 128 South Chambers Street Galesburg IL\, 61401
UID:e.2125.14024
SEQUENCE:3
DTSTAMP:20260422T122859Z
URL:https://business.macombareachamber.com/events/details/kids-canvas-club-10-09-2023-14024
END:VEVENT

END:VCALENDAR
