BEGIN:VCALENDAR
VERSION:2.0
PRODID:-//ChamberMaster//Event Calendar 2.0//EN
METHOD:PUBLISH
X-PUBLISHED-TTL:P3D
REFRESH-INTERVAL:P3D
CALSCALE:GREGORIAN
BEGIN:VEVENT
DTSTART:20220912T213000Z
DTEND:20220912T223000Z
X-MICROSOFT-CDO-ALLDAYEVENT:FALSE
SUMMARY:Kids Canvas Club
DESCRIPTION:Join our KID STYLE painting party and create your own masterpiece!\n\nAges 7+. Limit 10 People.\n\nSupplies and snack provided.\n\n$12 per person\n\n Sign up at Discovery Depot or online @ \n\nhttps://sales.discoverydepot.org/PatronEducation.aspxpid=6197&cal=https%3a%2f%2fsales.discoverydepot.org%3a443%2fcalendar.aspx
X-ALT-DESC;FMTTYPE=text/html:Join our KID STYLE painting party and create your own masterpiece!<br />\nAges 7+. Limit 10 People.<br />\nSupplies and snack provided.<br />\n$12 per person<br />\n&nbsp\;Sign up at Discovery Depot or online @&nbsp\;<br />\nhttps://sales.discoverydepot.org/PatronEducation.aspxpid=6197&amp\;cal=https%3a%2f%2fsales.discoverydepot.org%3a443%2fcalendar.aspx
LOCATION:
UID:e.2125.9982
SEQUENCE:3
DTSTAMP:20260423T091517Z
URL:https://business.macombareachamber.com/events/details/kids-canvas-club-09-12-2022-9982
END:VEVENT

END:VCALENDAR
