BEGIN:VCALENDAR
VERSION:2.0
PRODID:-//ChamberMaster//Event Calendar 2.0//EN
METHOD:PUBLISH
X-PUBLISHED-TTL:P3D
REFRESH-INTERVAL:P3D
CALSCALE:GREGORIAN
BEGIN:VEVENT
DTSTART:20230710T213000Z
DTEND:20230710T224500Z
X-MICROSOFT-CDO-ALLDAYEVENT:FALSE
SUMMARY:Kids Canvas Club
DESCRIPTION:Join our KID STYLE painting party and create your own masterpiece!\n\nPre-registration required-No walk ins. Ages 7+. Limited spots available.\n\nSupplies and snack provided.Non-refundable/non-transferable
X-ALT-DESC;FMTTYPE=text/html:Join our KID STYLE painting party and create your own masterpiece!<br />\nPre-registration required-No walk ins. Ages 7+. Limited spots available.<br />\nSupplies and snack provided.Non-refundable/non-transferable
LOCATION:Discovery Depot Children's Museum 128 S Chambers St Galesburg IL\, 61401
UID:e.2125.13591
SEQUENCE:3
DTSTAMP:20260423T175850Z
URL:https://business.macombareachamber.com/events/details/kids-canvas-club-07-10-2023-13591
END:VEVENT

END:VCALENDAR
