BEGIN:VCALENDAR
VERSION:2.0
PRODID:-//ChamberMaster//Event Calendar 2.0//EN
METHOD:PUBLISH
X-PUBLISHED-TTL:P3D
REFRESH-INTERVAL:P3D
CALSCALE:GREGORIAN
BEGIN:VEVENT
DTSTART:20250410T211500Z
DTEND:20250410T224500Z
X-MICROSOFT-CDO-ALLDAYEVENT:FALSE
SUMMARY:Kids Canvas Club
DESCRIPTION:Kids Canvas Club Come create a Step by Step painting by Tracie Kiernan! Cost is $12.00. Pre-registration is required!
X-ALT-DESC;FMTTYPE=text/html:Kids Canvas Club Come create a Step by Step painting by Tracie Kiernan! Cost is $12.00. Pre-registration is required!
LOCATION:Discovery Depot Chidren's Museum 128 S. Chambers Street Galesburg\, IL 61401
UID:e.2125.18780
SEQUENCE:3
DTSTAMP:20260420T113735Z
URL:https://business.macombareachamber.com/events/details/kids-canvas-club-04-10-2025-18780
END:VEVENT

END:VCALENDAR
