BEGIN:VCALENDAR
VERSION:2.0
PRODID:-//ChamberMaster//Event Calendar 2.0//EN
METHOD:PUBLISH
X-PUBLISHED-TTL:P3D
REFRESH-INTERVAL:P3D
CALSCALE:GREGORIAN
BEGIN:VEVENT
DTSTART;VALUE=DATE:20240723
DTEND;VALUE=DATE:20240724
TRANSP:TRANSPARENT
X-MICROSOFT-CDO-ALLDAYEVENT:TRUE
SUMMARY:Kids Camp
DESCRIPTION:Save the Dates! Kids Camp. Bully-proof your child.
X-ALT-DESC;FMTTYPE=text/html:Save the Dates! Kids Camp. Bully-proof your child.&nbsp\;
LOCATION:Royce Gracie Jiu Jitsu Academy of Macomb 1601 W. Jackson St.\, Ste 202 Macomb\, IL
UID:e.2125.15109
SEQUENCE:3
DTSTAMP:20260423T005926Z
URL:https://business.macombareachamber.com/events/details/kids-camp-15109
END:VEVENT

END:VCALENDAR
