BEGIN:VCALENDAR
VERSION:2.0
PRODID:-//ChamberMaster//Event Calendar 2.0//EN
METHOD:PUBLISH
X-PUBLISHED-TTL:P3D
REFRESH-INTERVAL:P3D
CALSCALE:GREGORIAN
BEGIN:VEVENT
DTSTART:20230423T190000Z
DTEND:20230423T210000Z
X-MICROSOFT-CDO-ALLDAYEVENT:FALSE
SUMMARY:Kids' Battle of the Brushes
DESCRIPTION:Kids Battle of the Brushes. Create a painting in 20 minutes or less. Fun! Friends! Prizes!\n\n\n\nAttention young artists (1st through 8th grade)! Kids Battle of the Brushes 2023 registration form available now at macombartscenter.org/events and at the MAC during Gallery hours. Registration and $5 fee needed by Friday\, April 21. Space is limited--register soon!
X-ALT-DESC;FMTTYPE=text/html:Kids Battle of the Brushes. Create a painting in 20 minutes or less. Fun! Friends! Prizes!<br />\n<br />\nAttention young artists (1st through 8th grade)! Kids Battle of the Brushes 2023 registration form available now at macombartscenter.org/events and at the MAC during Gallery hours. Registration and $5 fee needed by Friday\, April 21. Space is limited--register soon!
LOCATION:Macomb Arts Center - 25 East Side Square
UID:e.2125.13003
SEQUENCE:3
DTSTAMP:20260423T233246Z
URL:https://business.macombareachamber.com/events/details/kids-battle-of-the-brushes-13003
END:VEVENT

END:VCALENDAR
