BEGIN:VCALENDAR
VERSION:2.0
PRODID:-//ChamberMaster//Event Calendar 2.0//EN
METHOD:PUBLISH
X-PUBLISHED-TTL:P3D
REFRESH-INTERVAL:P3D
CALSCALE:GREGORIAN
BEGIN:VEVENT
DTSTART:20230418T213000Z
DTEND:20230418T230000Z
X-MICROSOFT-CDO-ALLDAYEVENT:FALSE
SUMMARY:Juried Student Exhibition
DESCRIPTION:The University Art Gallery will host a reception for the Department of Art and Design's Juried Student Exhibition on Tuesday\, April 18 from 4:30 to 6:00 pm. Awards and Juror's talk at 5:00 pm. The exhibition will be on view April 18   April 25\, 2023. Admission is free and open to the public. Visitors are expected to be vaccinated and masks are required.
X-ALT-DESC;FMTTYPE=text/html:The University Art Gallery will host a reception for the Department of Art and Design&rsquo\;s Juried Student Exhibition on Tuesday\, April 18 from 4:30 to 6:00 pm. Awards and Juror&rsquo\;s talk at 5:00 pm. The exhibition will be on view April 18 &ndash\; April 25\, 2023. Admission is free and open to the public. Visitors are expected to be vaccinated and masks are required.
LOCATION:Western Illinois University Art Gallery
UID:e.2125.13129
SEQUENCE:3
DTSTAMP:20260423T233055Z
URL:https://business.macombareachamber.com/events/details/juried-student-exhibition-04-18-2023-13129
END:VEVENT

END:VCALENDAR
