BEGIN:VCALENDAR
VERSION:2.0
PRODID:-//ChamberMaster//Event Calendar 2.0//EN
METHOD:PUBLISH
X-PUBLISHED-TTL:P3D
REFRESH-INTERVAL:P3D
CALSCALE:GREGORIAN
BEGIN:VEVENT
DTSTART:20220719T150000Z
DTEND:20220721T170000Z
X-MICROSOFT-CDO-ALLDAYEVENT:FALSE
SUMMARY:Junior Stars- Theatre Camp
DESCRIPTION:Want to try your talents in acting? Then this is the camp for you! Learn the basics of costume and set design\, character expression and the art of performance.\n\nAges 5-8\n\n3 Day Camp\n\n$40 for Members/$45 for Non-Members\n\nYou may register in person or online at www.discoverydepot.org
X-ALT-DESC;FMTTYPE=text/html:Want to try your talents in acting? Then this is the camp for you! Learn the basics of costume and set design\, character expression and the art of performance.<br />\nAges 5-8<br />\n3 Day Camp<br />\n$40 for Members/$45 for Non-Members<br />\nYou may register in person or online at www.discoverydepot.org<br />\n&nbsp\;
LOCATION:Discovery Depot Children's Museum 128 S Chambers St Galesburg\, IL\, 61401
UID:e.2125.8441
SEQUENCE:3
DTSTAMP:20260422T120145Z
URL:https://business.macombareachamber.com/events/details/junior-stars-theatre-camp-8441
END:VEVENT

END:VCALENDAR
