BEGIN:VCALENDAR
VERSION:2.0
PRODID:-//ChamberMaster//Event Calendar 2.0//EN
METHOD:PUBLISH
X-PUBLISHED-TTL:P3D
REFRESH-INTERVAL:P3D
CALSCALE:GREGORIAN
BEGIN:VEVENT
DTSTART:20230719T213000Z
DTEND:20230719T230000Z
X-MICROSOFT-CDO-ALLDAYEVENT:FALSE
SUMMARY:July Business After Hours
DESCRIPTION:A free networking event for Chamber members and potential new members as well.
X-ALT-DESC;FMTTYPE=text/html:A free networking event for Chamber members and potential new members as well.&nbsp\;
LOCATION:Harry Mussatto Golf Course - 1215 Tower Road\, Macomb
UID:e.2125.12323
SEQUENCE:3
DTSTAMP:20260423T191644Z
URL:https://business.macombareachamber.com/events/details/july-business-after-hours-12323
END:VEVENT

END:VCALENDAR
