BEGIN:VCALENDAR
VERSION:2.0
PRODID:-//ChamberMaster//Event Calendar 2.0//EN
METHOD:PUBLISH
X-PUBLISHED-TTL:P3D
REFRESH-INTERVAL:P3D
CALSCALE:GREGORIAN
BEGIN:VEVENT
DTSTART:20220720T213000Z
DTEND:20220720T230000Z
X-MICROSOFT-CDO-ALLDAYEVENT:FALSE
SUMMARY:July 2022 Business After Hours
DESCRIPTION:A free networking event for Chamber members and potential new members as well.
X-ALT-DESC;FMTTYPE=text/html:A free networking event for Chamber members and potential new members as well.&nbsp\;
LOCATION:Grand Prairie Supportive Living - 1307 Meadowlark Lane
UID:e.2125.9906
SEQUENCE:3
DTSTAMP:20260422T120349Z
URL:https://business.macombareachamber.com/events/details/july-2022-business-after-hours-9906
END:VEVENT

END:VCALENDAR
