BEGIN:VCALENDAR
VERSION:2.0
PRODID:-//ChamberMaster//Event Calendar 2.0//EN
METHOD:PUBLISH
X-PUBLISHED-TTL:P3D
REFRESH-INTERVAL:P3D
CALSCALE:GREGORIAN
BEGIN:VEVENT
DTSTART:20230617T210000Z
DTEND:20230618T010000Z
X-MICROSOFT-CDO-ALLDAYEVENT:FALSE
SUMMARY:Jr's Garage 2 Year Celebratory Car Meet
DESCRIPTION:Jr's Garage two year anniversary is approaching and they would like to invite everyone to this wonderful collaboration with Windy City Cannabis. It will be held on June 17th in the parking lot area next to Windy City Cannabis. Bring your project cars\, enjoy some food from various vendors\, and have a good time networking. See you there!
X-ALT-DESC;FMTTYPE=text/html:Jr&rsquo\;s Garage two year anniversary is approaching and they would like to invite everyone to this wonderful collaboration with Windy City Cannabis. It will be held on June 17th in the parking lot area next to Windy City Cannabis. Bring your project cars\, enjoy some food from various vendors\, and have a good time networking. See you there!
LOCATION:Windy City Cannabis - 518 W. Jackson Street
UID:e.2125.13571
SEQUENCE:3
DTSTAMP:20260423T192722Z
URL:https://business.macombareachamber.com/events/details/jr-s-garage-2-year-celebratory-car-meet-13571
END:VEVENT

END:VCALENDAR
