BEGIN:VCALENDAR
VERSION:2.0
PRODID:-//ChamberMaster//Event Calendar 2.0//EN
METHOD:PUBLISH
X-PUBLISHED-TTL:P3D
REFRESH-INTERVAL:P3D
CALSCALE:GREGORIAN
BEGIN:VEVENT
DTSTART:20250115T223000Z
DTEND:20250116T000000Z
X-MICROSOFT-CDO-ALLDAYEVENT:FALSE
SUMMARY:January Business After Hours
DESCRIPTION:Join us for a fun\, informal night of networking with your fellow Macomb Area Chamber business professionals.
X-ALT-DESC;FMTTYPE=text/html:Join us for a fun\, informal night of networking with your fellow Macomb Area Chamber business professionals.&nbsp\;
LOCATION:McDonough District Hospital Health Services Building 2 515 East Grant St. Macomb\, IL
UID:e.2125.16200
SEQUENCE:3
DTSTAMP:20260422T081542Z
URL:https://business.macombareachamber.com/events/details/january-business-after-hours-16200
END:VEVENT

END:VCALENDAR
