BEGIN:VCALENDAR
VERSION:2.0
PRODID:-//ChamberMaster//Event Calendar 2.0//EN
METHOD:PUBLISH
X-PUBLISHED-TTL:P3D
REFRESH-INTERVAL:P3D
CALSCALE:GREGORIAN
BEGIN:VEVENT
DTSTART:20241021T220000Z
DTEND:20241022T003000Z
X-MICROSOFT-CDO-ALLDAYEVENT:FALSE
SUMMARY:Introduction to Canva
DESCRIPTION:Introduction to Canva\n\n\n\nLearn the basics of Canva to create new and innovative marketing materials. Create flyers\, social media posts\, and more! Instructor is Tiffany Davis.
X-ALT-DESC;FMTTYPE=text/html:Introduction to Canva<br />\n<br />\nLearn the basics of Canva to create new and innovative marketing materials. Create flyers\, social media posts\, and more! Instructor is Tiffany Davis.&nbsp\;&nbsp\;
LOCATION:Spoon River College | Community Outreach Center 2500 E Jackson St | Macomb\, IL 61455 US
UID:e.2125.15948
SEQUENCE:3
DTSTAMP:20260422T054044Z
URL:https://business.macombareachamber.com/events/details/introduction-to-canva-15948
END:VEVENT

END:VCALENDAR
