BEGIN:VCALENDAR
VERSION:2.0
PRODID:-//ChamberMaster//Event Calendar 2.0//EN
METHOD:PUBLISH
X-PUBLISHED-TTL:P3D
REFRESH-INTERVAL:P3D
CALSCALE:GREGORIAN
BEGIN:VEVENT
DTSTART:20231010T180000Z
DTEND:20231010T193000Z
X-MICROSOFT-CDO-ALLDAYEVENT:FALSE
SUMMARY:Intro to Microsoft Excel Series
DESCRIPTION:Learn Excel in the best of both worlds with this hybrid class! Class will meet each week (4 weeks) for face-to-face instruction\, and students will also have access to online resources for videos\, discussion boards\, and assignments during the week. Excel can help you create budgets\, charts\, schedules\, and databases. Students in this class will learn the basics of Excel and how to apply it in everyday life. If you need to track anything in your life\, Excel is the program for you! Instructor is Andrea Barbknecht.
X-ALT-DESC;FMTTYPE=text/html:Learn Excel in the best of both worlds with this hybrid class! Class will meet each week (4 weeks) for face-to-face instruction\, and students will also have access to online resources for videos\, discussion boards\, and assignments during the week. Excel can help you create budgets\, charts\, schedules\, and databases. Students in this class will learn the basics of Excel and how to apply it in everyday life. If you need to track anything in your life\, Excel is the program for you! Instructor is Andrea Barbknecht.
LOCATION:Spoon River College | Community Outreach Center\, 2500 E Jackson St\, Macomb\, IL 61455
UID:e.2125.13799
SEQUENCE:3
DTSTAMP:20260422T122607Z
URL:https://business.macombareachamber.com/events/details/intro-to-microsoft-excel-series-10-10-2023-13799
END:VEVENT

END:VCALENDAR
