BEGIN:VCALENDAR
VERSION:2.0
PRODID:-//ChamberMaster//Event Calendar 2.0//EN
METHOD:PUBLISH
X-PUBLISHED-TTL:P3D
REFRESH-INTERVAL:P3D
CALSCALE:GREGORIAN
BEGIN:VEVENT
DTSTART:20240410T150000Z
DTEND:20240410T153000Z
X-MICROSOFT-CDO-ALLDAYEVENT:FALSE
SUMMARY:Interim President Inagural Address
DESCRIPTION:Western Illinois University Interim President Kristi Mindrup will deliver her first remarks to the University community from 10-10:30 a.m. Wednesday\, April 10 in the College of Fine Arts and Communication (COFAC) Recital Hall. All faculty\, staff\, students and members of the community are invited to attend.\n\n\n\nDuring her address\, Mindrup's remarks will focus on University priorities\, opportunities and future vision for Western Illinois University.\n\n\n\nThe event will be held in person and will also be live streamed on WIU's official YouTube channel.
X-ALT-DESC;FMTTYPE=text/html:Western Illinois University Interim President Kristi Mindrup will deliver her first remarks to the University community from 10-10:30 a.m. Wednesday\, April 10 in the College of Fine Arts and Communication (COFAC) Recital Hall. All faculty\, staff\, students and members of the community are invited to attend.<br />\n<br />\nDuring her address\, Mindrup&#39\;s remarks will focus on University priorities\, opportunities and future vision for Western Illinois University.<br />\n<br />\nThe event will be held in person and will also be live streamed on WIU&#39\;s official YouTube channel.
LOCATION:
UID:e.2125.14805
SEQUENCE:3
DTSTAMP:20260423T102238Z
URL:https://business.macombareachamber.com/events/details/interim-president-inagural-address-14805
END:VEVENT

END:VCALENDAR
