BEGIN:VCALENDAR
VERSION:2.0
PRODID:-//ChamberMaster//Event Calendar 2.0//EN
METHOD:PUBLISH
X-PUBLISHED-TTL:P3D
REFRESH-INTERVAL:P3D
CALSCALE:GREGORIAN
BEGIN:VEVENT
DTSTART:20230621T180000Z
DTEND:20230621T200000Z
X-MICROSOFT-CDO-ALLDAYEVENT:FALSE
SUMMARY:Ice Cream Social
DESCRIPTION:June 21st from 1-3pm.  Ice Cream Social at Grand Prairie. All proceeds from the event will go to the Alzheimer's Association. Pies will be available for purchase as well. Music by Lydia Cunningham.
X-ALT-DESC;FMTTYPE=text/html:June 21st from 1-3pm.&nbsp\; Ice Cream Social at Grand Prairie. All proceeds from the event will go to the Alzheimer&#39\;s Association. Pies will be available for purchase as well. Music by Lydia Cunningham.
LOCATION:Grand Prairie 1307 Meadowlark Lane
UID:e.2125.13582
SEQUENCE:3
DTSTAMP:20260423T192143Z
URL:https://business.macombareachamber.com/events/details/ice-cream-social-13582
END:VEVENT

END:VCALENDAR
