BEGIN:VCALENDAR
VERSION:2.0
PRODID:-//ChamberMaster//Event Calendar 2.0//EN
METHOD:PUBLISH
X-PUBLISHED-TTL:P3D
REFRESH-INTERVAL:P3D
CALSCALE:GREGORIAN
BEGIN:VEVENT
DTSTART;VALUE=DATE:20240424
DTEND;VALUE=DATE:20240425
TRANSP:TRANSPARENT
X-MICROSOFT-CDO-ALLDAYEVENT:TRUE
SUMMARY:I'd Rather Be Reading Book Club
DESCRIPTION:I'd Rather Be Reading Book Club will meet to discuss The Yearling by Marjorie Kinman Rawlings. Join us in the Senior Center for great discussion\, coffee\, tea\, and treats.
X-ALT-DESC;FMTTYPE=text/html:I&#39\;d Rather Be Reading Book Club will meet to discuss The Yearling by Marjorie Kinman Rawlings. Join us in the Senior Center for great discussion\, coffee\, tea\, and treats.&nbsp\;
LOCATION:400 E. Calhoun Street\, Macomb
UID:e.2125.14519
SEQUENCE:3
DTSTAMP:20260423T055335Z
URL:https://business.macombareachamber.com/events/details/i-d-rather-be-reading-book-club-14519
END:VEVENT

END:VCALENDAR
