BEGIN:VCALENDAR
VERSION:2.0
PRODID:-//ChamberMaster//Event Calendar 2.0//EN
METHOD:PUBLISH
X-PUBLISHED-TTL:P3D
REFRESH-INTERVAL:P3D
CALSCALE:GREGORIAN
BEGIN:VEVENT
DTSTART:20231022T000000Z
DTEND:20231022T030000Z
X-MICROSOFT-CDO-ALLDAYEVENT:FALSE
SUMMARY:I AM KING\, The Michael Jackson Experience
DESCRIPTION:I AM KING The Michael Jackson Experience\n\n\n\nis as close as you will get to seeing the King of Pop live in concert!  Featuring Michael Jackson tribute artists who can sing LIVE while mastering the intense dancing that Jackson was so famous for\, I AM KING takes the audience on a musical and visual journey into the world of the KING OF POP.  The creators of I AM KING have put together an incredible cast of talented musicians and Broadway and Las Vegas dancers to bring Jackson to life in an explosion of unmatched energetic perfection.  I AM KING features amazing renditions of Jackson's biggest hits including "Bad"\, "Billie Jean"\, "Thriller"\, "Man in the Mirror"\, "Human Nature" and many more.\n\n\n\nThis show is still available for sponsorship. If your business would like to sponsor on \n\nof our shows\, please email info@thelegacytheater.com.
X-ALT-DESC;FMTTYPE=text/html:I AM KING&ndash\;The Michael Jackson Experience<br />\n<br />\nis as close as you will get to seeing the King of Pop live in concert!&nbsp\; Featuring Michael Jackson tribute artists who can sing LIVE while mastering the intense dancing that Jackson was so famous for\, I AM KING takes the audience on a musical and visual journey into the world of the KING OF POP.&nbsp\; The creators of I AM KING have put together an incredible cast of talented musicians and Broadway and Las Vegas dancers to bring Jackson to life in an explosion of unmatched energetic perfection.&nbsp\; I AM KING features amazing renditions of Jackson&rsquo\;s biggest hits including &ldquo\;Bad&rdquo\;\, &rdquo\;Billie Jean&rdquo\;\, &ldquo\;Thriller&rdquo\;\, &ldquo\;Man in the Mirror&rdquo\;\, &ldquo\;Human Nature&rdquo\; and many more.<br />\n<br />\nThis show is still available for sponsorship. If your business would like to sponsor on&nbsp\;<br />\nof our shows\, please email info@thelegacytheater.com.
LOCATION:The Legacy Theater - 1160 Buchanan Street - Carthage\, IL
UID:e.2125.12750
SEQUENCE:3
DTSTAMP:20260422T122435Z
URL:https://business.macombareachamber.com/events/details/i-am-king-the-michael-jackson-experience-12750
END:VEVENT

END:VCALENDAR
