BEGIN:VCALENDAR
VERSION:2.0
PRODID:-//ChamberMaster//Event Calendar 2.0//EN
METHOD:PUBLISH
X-PUBLISHED-TTL:P3D
REFRESH-INTERVAL:P3D
CALSCALE:GREGORIAN
BEGIN:VEVENT
DTSTART:20230603T130000Z
DTEND:20230603T200000Z
X-MICROSOFT-CDO-ALLDAYEVENT:FALSE
SUMMARY:Household Hazardous Waste Collection Day
DESCRIPTION:Household Hazardous Waste Collection Day\, safely dispose of uwanted and environmentally harmful chemicals. Do not bring latex pain.
X-ALT-DESC;FMTTYPE=text/html:Household Hazardous Waste Collection Day\, safely dispose of uwanted and environmentally harmful chemicals. Do not bring latex pain.
LOCATION:320 W. University Dr\, Macomb IL 61455
UID:e.2125.13065
SEQUENCE:3
DTSTAMP:20260423T192554Z
URL:https://business.macombareachamber.com/events/details/household-hazardous-waste-collection-day-13065
END:VEVENT

END:VCALENDAR
