BEGIN:VCALENDAR
VERSION:2.0
PRODID:-//ChamberMaster//Event Calendar 2.0//EN
METHOD:PUBLISH
X-PUBLISHED-TTL:P3D
REFRESH-INTERVAL:P3D
CALSCALE:GREGORIAN
BEGIN:VEVENT
DTSTART:20230408T190000Z
DTEND:20230408T210000Z
X-MICROSOFT-CDO-ALLDAYEVENT:FALSE
SUMMARY:Hop Around Macomb
DESCRIPTION:It has been so fun to see families enjoy this for the last few years! Bringing back our Hop Around Macomb event! Just a reminder of how it will work: \n\nYou will start at The Crossing Macomb anytime between 2pm and 4pm on April 8th. You will get your first clue there. Your goal is to find all of the Easter egg letter signs. On the back of the yard sign\, there will be  a fun clue to lead you to the next location (will need to drive) to another egg yard sign! \n\nThere are 9 locations\, the last one leading you back to The Crossing Macomb where your kiddos will get a fun Easter goodie bag from our staff! There might be a free sweet treat at one of the locations. There will be a letter on the back of each yard sign and you have to tell us what all of your letters spell when you come see us! Take pictures at each egg and use the hashtag #hoparoundmacomb and post them on our main Crossing page! \n\nPlease share if you want to have some family fun!
X-ALT-DESC;FMTTYPE=text/html:It has been so fun to see families enjoy this for the last few years! Bringing back our Hop Around Macomb event! Just a reminder of how it will work:&nbsp\;<br />\nYou will start at The Crossing Macomb anytime between 2pm and 4pm on April 8th. You will get your first clue there. Your goal is to find all of the Easter egg letter signs. On the back of the yard sign\, there will be&nbsp\; a fun clue to lead you to the next location (will need to drive) to another egg yard sign!&nbsp\;<br />\nThere are 9 locations\, the last one leading you back to The Crossing Macomb where your kiddos will get a fun Easter goodie bag from our staff! There might be a free sweet treat at one of the locations. There will be a letter on the back of each yard sign and you have to tell us what all of your letters spell when you come see us! Take pictures at each egg and use the hashtag #hoparoundmacomb and post them on our main Crossing page!&nbsp\;<br />\nPlease share if you want to have some family fun!&nbsp\;
LOCATION:The Crossing - 1600 West Jackson Street\, Macomb.
UID:e.2125.13022
SEQUENCE:3
DTSTAMP:20260423T232605Z
URL:https://business.macombareachamber.com/events/details/hop-around-macomb-13022
END:VEVENT

END:VCALENDAR
